Workbook

Sheet Calculator
A1: Tariff year | B1: =Data!B2 -> 2026-2027
A2: (Calculator published September 2026)
A4: Enter data into the white squares only.
A5: Scroll down for more calculators (discounts, HMOs, traveller plots/pitches).
A7: Calculation for all net new C3 dwellings within 400m-5km of the Thames Basin Heaths SPA and developments of over 50 net C3 dwellings within 5-7km of the SPA
B9: Proposed units | C9: Occupancy | D9: Existing units to be demolished | E9: Occupancy | F9: Net units | G9: Occupancy change | H9: SANG mitigation (ha) | I9: SANG Tariff | J9: SAMM tariff | K9: Total tariff
A10: 1 bed/studio | B10: 0 | C10: =Data!B11*B10 -> 0 | D10: 0 | E10: =Data!B11*D10 -> 0 | F10: =B10-D10 -> 0 | G10: =C10-E10 -> 0 | H10: =G10*0.008 -> 0 | I10: =Data!C11*F10 -> 0 | J10: =Data!D11*F10 -> 0 | K10: =J10+I10 -> 0
A11: 2 beds | B11: 0 | C11: =Data!B12*B11 -> 0 | D11: 0 | E11: =Data!B12*D11 -> 0 | F11: =B11-D11 -> 0 | G11: =C11-E11 -> 0 | H11: =G11*0.008 -> 0 | I11: =Data!C12*F11 -> 0 | J11: =Data!D12*F11 -> 0 | K11: =J11+I11 -> 0
A12: 3 beds | B12: 0 | C12: =Data!B13*B12 -> 0 | D12: 0 | E12: =Data!B13*D12 -> 0 | F12: =B12-D12 -> 0 | G12: =C12-E12 -> 0 | H12: =G12*0.008 -> 0 | I12: =Data!C13*F12 -> 0 | J12: =Data!D13*F12 -> 0 | K12: =J12+I12 -> 0
A13: 4 beds | B13: 0 | C13: =Data!B14*B13 -> 0 | D13: 0 | E13: =Data!B14*D13 -> 0 | F13: =B13-D13 -> 0 | G13: =C13-E13 -> 0 | H13: =G13*0.008 -> 0 | I13: =Data!C14*F13 -> 0 | J13: =Data!D14*F13 -> 0 | K13: =J13+I13 -> 0
A14: 5+ beds | B14: 0 | C14: =Data!B15*B14 -> 0 | D14: 0 | E14: =Data!B15*D14 -> 0 | F14: =B14-D14 -> 0 | G14: =C14-E14 -> 0 | H14: =G14*0.008 -> 0 | I14: =Data!C15*F14 -> 0 | J14: =Data!D15*F14 -> 0 | K14: =J14+I14 -> 0
A15: Totals | F15: =SUM(F10:F14) -> 0 | G15: =SUM(G10:G14) -> 0 | H15: =SUM(H10:H14) -> 0 | I15: =SUM(I10:I14) -> 0 | J15: =SUM(J10:J14) -> 0 | K15: =SUM(K10:K14) -> 0
A17: Discount calculator where Natural England has agreed that a lesser amount of SANG provision is acceptable
A18: This may apply to, for example, student units and developments within the 5-7km zone
F19: Discount (%) | G19: Provision (%) | H19: SANG mitigation (ha) after discount | I19: SANG Tariff after discount | J19: SAMM tariff after discount | K19: Total tariff after discount
F20: 0 | G20: =100-F20 -> 100 | H20: =(H15/100)*G20 -> 0 | I20: =(I15/100)*G20 -> 0 | J20: =(J15/100)*G20 -> 0 | K20: =I20+J20 -> 0
A24: Calculation for conversion from C3 dwelling to house in multiple occupation (HMO) within 400m-5km of the Thames Basin Heaths SPA*
B26: C3 Bedrooms* (1-5 beds) | C26: C3 Occupancy | D26: HMO Bedrooms | E26: HMO occupancy | F26: Increase in occupancy | G26: SANG mitigation (ha) | H26: SANG tariff | I26: SAMM tariff | J26: Total tariff
A27: C3 | B27: 0 | C27: =VLOOKUP(B27, Data!A11:B15,2,FALSE) -> #N/A | D27: 5 | E27: =D27 -> 5 | F27: =E27-C27 -> #N/A | G27: =F27*0.008 -> #N/A | H27: =F27*Data!B4 -> #N/A | I27: =F27*Data!B5 -> #N/A | J27: =I27+H27 -> #N/A
A28: * 5 bedrooms and above should be entered as 5
A31: Calculation for new house in multiple occupation (HMO) within 400m-5km of the Thames Basin Heaths SPA**
B33: No. of bedrooms | C33: Total occupancy | D33: SANG mitigation (ha) | E33: SANG Tariff | F33: SAMM tariff | G33: Total tariff
A34: HMO | B34: 0 | C34: =B34 -> 0 | D34: =C34*0.008 -> 0 | E34: =B34*Data!B4 -> 0 | F34: =B34*Data!B5 -> 0 | G34: =F34+E34 -> 0
A35: **These calculators assume an occupancy rate of one person per room in a HMO. Do not use these calculators if the occupancy rate is known to be higher.
A39: Calculation traveller pitches and plots***
B41: No. of pitches/plots | C41: Total occupancy | D41: SANG mitigation (ha) | E41: SANG Tariff per pitch/plot | F41: SAMM Tariff per pitch/plot | G41: Total SANG Tariff | H41: Total SAMM tariff | I41: Total tariff
A42: Pitch or plot | B42: 1 | C42: =B42*2.16 -> 2.16 | D42: =C42*0.008 -> 0.01728 | E42: =Data!C12+((Data!C13-Data!C12)*0.32) -> 7837.0588 | F42: =Data!D12+((Data!D13-Data!D12)*0.32) -> 919.51449 | G42: =E42*B42 -> 7837.0588 | H42: =F42*B42 -> 919.51449 | I42: =H42+G42 -> 8756.5733
A43: *** This calculation is for a "standard pitch or plot" as defined in the Special Protection Area Tariffs 2024 Supplementary Planning Document at 2.12.
A45: Discount calculator for temporary permissions
D46: Years of permission | E46: SANG tariff per pitch/plot per year | F46: SAMM tariff per pitch/plot per year | G46: SANG tariff total | H46: SAMM tariff total | I46: Total tariff
D47: 5 | E47: =E42/125 -> 62.696471 | F47: =F42/80 -> 11.493931 | G47: =(G42/125)*D47 -> 313.48235 | H47: =(H42/80)*D47 -> 57.469656 | I47: =G47+H47 -> 370.95201
A48: Notes: the SANG tariff per year is 1/125th of the total tariff. The SAMM tariff per year is 1/80th of the total tariff. See the Special Protection Area Tariffs 2024 Supplementary Planning Document at 2.7.

Sheet Data
A2: Tariffs for year: | B2: 2026-2027
A4: SANG tariff per person | B4: 3628.94
A5: SAMM tariff per person* | B5: 425.78
A6: *Excludes C3 enabling adjustment
A7: SANG mitigation assumes 8 hectares per thousand people or 0.008 hectares per person
A9: Ordinary (C3) dwellings
A10: Bedrooms | B10: Occupancy | C10: SANG tariff | D10: SAMM tariff | E10: Total tariff
A11: 1 | B11: 1.37 | C11: =$B$4*B11 -> 4971.6478 | D11: =$B$5*B11 -> 583.3186 | E11: =D11+C11 -> 5554.9664
A12: 2 | B12: 1.99 | C12: =$B$4*B12 -> 7221.5906 | D12: =$B$5*B12 -> 847.3022 | E12: =D12+C12 -> 8068.8928
A13: 3 | B13: 2.52 | C13: =$B$4*B13 -> 9144.9288 | D13: =$B$5*B13 -> 1072.9656 | E13: =D13+C13 -> 10217.894
A14: 4 | B14: 2.92 | C14: =$B$4*B14 -> 10596.505 | D14: =$B$5*B14 -> 1243.2776 | E14: =D14+C14 -> 11839.782
A15: 5 | B15: 3.37 | C15: =$B$4*B15 -> 12229.528 | D15: =$B$5*B15 -> 1434.8786 | E15: =D15+C15 -> 13664.406
